BEGIN:VCALENDAR
VERSION:2.0
PRODID:-//Barrhaven United Church - ECPv5.1.1//NONSGML v1.0//EN
CALSCALE:GREGORIAN
METHOD:PUBLISH
X-WR-CALNAME:Barrhaven United Church
X-ORIGINAL-URL:https://barrhavenunited.org
X-WR-CALDESC:Events for Barrhaven United Church
BEGIN:VTIMEZONE
TZID:America/Toronto
BEGIN:DAYLIGHT
TZOFFSETFROM:-0500
TZOFFSETTO:-0400
TZNAME:EDT
DTSTART:20250309T070000
END:DAYLIGHT
BEGIN:STANDARD
TZOFFSETFROM:-0400
TZOFFSETTO:-0500
TZNAME:EST
DTSTART:20251102T060000
END:STANDARD
END:VTIMEZONE
BEGIN:VEVENT
DTSTART;TZID=America/Toronto:20250406T100000
DTEND;TZID=America/Toronto:20250406T110000
DTSTAMP:20260421T123553
CREATED:20250310T163133Z
LAST-MODIFIED:20250310T163133Z
UID:27347-1743933600-1743937200@barrhavenunited.org
SUMMARY:5th Sunday of Lent
DESCRIPTION:
URL:https://barrhavenunited.org/event/5th-sunday-of-lent/
CATEGORIES:Easter
END:VEVENT
END:VCALENDAR