BEGIN:VCALENDAR
VERSION:2.0
PRODID:-//Barrhaven United Church - ECPv5.1.1//NONSGML v1.0//EN
CALSCALE:GREGORIAN
METHOD:PUBLISH
X-WR-CALNAME:Barrhaven United Church
X-ORIGINAL-URL:https://barrhavenunited.org
X-WR-CALDESC:Events for Barrhaven United Church
BEGIN:VTIMEZONE
TZID:America/Toronto
BEGIN:DAYLIGHT
TZOFFSETFROM:-0500
TZOFFSETTO:-0400
TZNAME:EDT
DTSTART:20210314T070000
END:DAYLIGHT
BEGIN:STANDARD
TZOFFSETFROM:-0400
TZOFFSETTO:-0500
TZNAME:EST
DTSTART:20211107T060000
END:STANDARD
END:VTIMEZONE
BEGIN:VEVENT
DTSTART;TZID=America/Toronto:20210516T130000
DTEND;TZID=America/Toronto:20210516T140000
DTSTAMP:20260420T195110
CREATED:20210326T124420Z
LAST-MODIFIED:20210326T124529Z
UID:26662-1621170000-1621173600@barrhavenunited.org
SUMMARY:BUC’s Visioning Session #6
DESCRIPTION:Session #6 (May 16\, 1300hs)\, given all the above\, we will confirm BUC’s focus\, outline the priority actions needed to set the stage for our vision and discuss the congregation’s recommendations for Council about how to give the greatest boost to our vision through the wise and purposeful placement of hired resources (eg the currently un-filled position for BUC’s Congregational Designated Minister or other part time paid positions). \nHoping to see you there!  Questions about visioning or the process\, please contact Melanie Macdonald bucmembership.chair@gmail.com .  Questions about zooming or technicalities\, please contact David Crowder at dmdcrowder@gmail.com\n
URL:https://barrhavenunited.org/event/bucsvisioningsession6/
CATEGORIES:BUC's Visioning
ORGANIZER;CN="Membership%20Chair":MAILTO:bucmembership.chair@gmail.com
END:VEVENT
END:VCALENDAR