BEGIN:VCALENDAR
VERSION:2.0
PRODID:-//Barrhaven United Church - ECPv5.1.1//NONSGML v1.0//EN
CALSCALE:GREGORIAN
METHOD:PUBLISH
X-WR-CALNAME:Barrhaven United Church
X-ORIGINAL-URL:https://barrhavenunited.org
X-WR-CALDESC:Events for Barrhaven United Church
BEGIN:VTIMEZONE
TZID:America/Toronto
BEGIN:DAYLIGHT
TZOFFSETFROM:-0500
TZOFFSETTO:-0400
TZNAME:EDT
DTSTART:20260308T070000
END:DAYLIGHT
BEGIN:STANDARD
TZOFFSETFROM:-0400
TZOFFSETTO:-0500
TZNAME:EST
DTSTART:20261101T060000
END:STANDARD
END:VTIMEZONE
BEGIN:VEVENT
DTSTART;TZID=America/Toronto:20260505T191500
DTEND;TZID=America/Toronto:20260505T210000
DTSTAMP:20260420T193322
CREATED:20260419T205828Z
LAST-MODIFIED:20260419T205828Z
UID:28042-1778008500-1778014800@barrhavenunited.org
SUMMARY:Council Meeting
DESCRIPTION:Virtual meeting this month. Link will be sent in L&W \n
URL:https://barrhavenunited.org/event/council-meeting-2/
END:VEVENT
END:VCALENDAR