BEGIN:VCALENDAR
VERSION:2.0
PRODID:-//Barrhaven United Church - ECPv5.1.1//NONSGML v1.0//EN
CALSCALE:GREGORIAN
METHOD:PUBLISH
X-WR-CALNAME:Barrhaven United Church
X-ORIGINAL-URL:https://barrhavenunited.org
X-WR-CALDESC:Events for Barrhaven United Church
BEGIN:VTIMEZONE
TZID:America/Toronto
BEGIN:DAYLIGHT
TZOFFSETFROM:-0500
TZOFFSETTO:-0400
TZNAME:EDT
DTSTART:20260308T070000
END:DAYLIGHT
BEGIN:STANDARD
TZOFFSETFROM:-0400
TZOFFSETTO:-0500
TZNAME:EST
DTSTART:20261101T060000
END:STANDARD
END:VTIMEZONE
BEGIN:VEVENT
DTSTART;TZID=America/Toronto:20260420T080000
DTEND;TZID=America/Toronto:20260420T170000
DTSTAMP:20260420T110606
CREATED:20260228T163955Z
LAST-MODIFIED:20260228T163955Z
UID:27951-1776672000-1776704400@barrhavenunited.org
SUMMARY:L&W submissions due
DESCRIPTION:Please send your updates to Natalie in the office at BUCadmin@gmail.com \n
URL:https://barrhavenunited.org/event/lw-submissions-due-12/
CATEGORIES:Life and Work
END:VEVENT
END:VCALENDAR