BEGIN:VCALENDAR
VERSION:2.0
PRODID:-//Barrhaven United Church - ECPv5.1.1//NONSGML v1.0//EN
CALSCALE:GREGORIAN
METHOD:PUBLISH
X-WR-CALNAME:Barrhaven United Church
X-ORIGINAL-URL:https://barrhavenunited.org
X-WR-CALDESC:Events for Barrhaven United Church
BEGIN:VTIMEZONE
TZID:America/Toronto
BEGIN:DAYLIGHT
TZOFFSETFROM:-0500
TZOFFSETTO:-0400
TZNAME:EDT
DTSTART:20260308T070000
END:DAYLIGHT
BEGIN:STANDARD
TZOFFSETFROM:-0400
TZOFFSETTO:-0500
TZNAME:EST
DTSTART:20261101T060000
END:STANDARD
END:VTIMEZONE
BEGIN:VEVENT
DTSTART;TZID=America/Toronto:20260308T111500
DTEND;TZID=America/Toronto:20260308T120000
DTSTAMP:20260424T131822
CREATED:20260307T161546Z
LAST-MODIFIED:20260307T161913Z
UID:27975-1772968500-1772971200@barrhavenunited.org
SUMMARY:P.I.E. day coffee time
DESCRIPTION:We will have pies to enjoy with our coffee time to celebrate our 2SLGBTQIA+ community \n
URL:https://barrhavenunited.org/event/p-i-e-day-coffee-time/
END:VEVENT
END:VCALENDAR