BEGIN:VCALENDAR
VERSION:2.0
PRODID:-//Barrhaven United Church - ECPv5.1.1//NONSGML v1.0//EN
CALSCALE:GREGORIAN
METHOD:PUBLISH
X-WR-CALNAME:Barrhaven United Church
X-ORIGINAL-URL:https://barrhavenunited.org
X-WR-CALDESC:Events for Barrhaven United Church
BEGIN:VTIMEZONE
TZID:America/Toronto
BEGIN:DAYLIGHT
TZOFFSETFROM:-0500
TZOFFSETTO:-0400
TZNAME:EDT
DTSTART:20250309T070000
END:DAYLIGHT
BEGIN:STANDARD
TZOFFSETFROM:-0400
TZOFFSETTO:-0500
TZNAME:EST
DTSTART:20251102T060000
END:STANDARD
END:VTIMEZONE
BEGIN:VEVENT
DTSTART;TZID=America/Toronto:20251116T173000
DTEND;TZID=America/Toronto:20251116T183000
DTSTAMP:20260424T104233
CREATED:20251027T184809Z
LAST-MODIFIED:20251027T184809Z
UID:27643-1763314200-1763317800@barrhavenunited.org
SUMMARY:Parade
DESCRIPTION:Barrhaven Santa Parade starts at 5:30 along Strandherd drive. \n
URL:https://barrhavenunited.org/event/parade/
CATEGORIES:Christmas
END:VEVENT
END:VCALENDAR