BEGIN:VCALENDAR
VERSION:2.0
PRODID:-//Barrhaven United Church - ECPv5.1.1//NONSGML v1.0//EN
CALSCALE:GREGORIAN
METHOD:PUBLISH
X-WR-CALNAME:Barrhaven United Church
X-ORIGINAL-URL:https://barrhavenunited.org
X-WR-CALDESC:Events for Barrhaven United Church
BEGIN:VTIMEZONE
TZID:America/Toronto
BEGIN:DAYLIGHT
TZOFFSETFROM:-0500
TZOFFSETTO:-0400
TZNAME:EDT
DTSTART:20250309T070000
END:DAYLIGHT
BEGIN:STANDARD
TZOFFSETFROM:-0400
TZOFFSETTO:-0500
TZNAME:EST
DTSTART:20251102T060000
END:STANDARD
END:VTIMEZONE
BEGIN:VEVENT
DTSTART;TZID=America/Toronto:20250907T100000
DTEND;TZID=America/Toronto:20250907T110000
DTSTAMP:20260421T075921
CREATED:20250826T223650Z
LAST-MODIFIED:20250826T223650Z
UID:27526-1757239200-1757242800@barrhavenunited.org
SUMMARY:Sunday school registration
DESCRIPTION:Sunday school resumes Sept. 14\, sign up now \n
URL:https://barrhavenunited.org/event/sunday-school-registration/
CATEGORIES:School
END:VEVENT
END:VCALENDAR