BEGIN:VCALENDAR
VERSION:2.0
PRODID:-//Barrhaven United Church - ECPv5.1.1//NONSGML v1.0//EN
CALSCALE:GREGORIAN
METHOD:PUBLISH
X-WR-CALNAME:Barrhaven United Church
X-ORIGINAL-URL:https://barrhavenunited.org
X-WR-CALDESC:Events for Barrhaven United Church
BEGIN:VTIMEZONE
TZID:America/Toronto
BEGIN:DAYLIGHT
TZOFFSETFROM:-0500
TZOFFSETTO:-0400
TZNAME:EDT
DTSTART:20260308T070000
END:DAYLIGHT
BEGIN:STANDARD
TZOFFSETFROM:-0400
TZOFFSETTO:-0500
TZNAME:EST
DTSTART:20261101T060000
END:STANDARD
END:VTIMEZONE
BEGIN:VEVENT
DTSTART;TZID=America/Toronto:20260330T093000
DTEND;TZID=America/Toronto:20260330T110000
DTSTAMP:20260420T110345
CREATED:20260228T164418Z
LAST-MODIFIED:20260228T164418Z
UID:27956-1774863000-1774868400@barrhavenunited.org
SUMMARY:UCW
DESCRIPTION:All women of BUC are welcome for fellowship and fun. \n
URL:https://barrhavenunited.org/event/ucw-5/
CATEGORIES:Life and Work
END:VEVENT
END:VCALENDAR