BEGIN:VCALENDAR
VERSION:2.0
PRODID:-//Barrhaven United Church - ECPv5.1.1//NONSGML v1.0//EN
CALSCALE:GREGORIAN
METHOD:PUBLISH
X-WR-CALNAME:Barrhaven United Church
X-ORIGINAL-URL:https://barrhavenunited.org
X-WR-CALDESC:Events for Barrhaven United Church
BEGIN:VTIMEZONE
TZID:America/Toronto
BEGIN:DAYLIGHT
TZOFFSETFROM:-0500
TZOFFSETTO:-0400
TZNAME:EDT
DTSTART:20250309T070000
END:DAYLIGHT
BEGIN:STANDARD
TZOFFSETFROM:-0400
TZOFFSETTO:-0500
TZNAME:EST
DTSTART:20251102T060000
END:STANDARD
END:VTIMEZONE
BEGIN:VEVENT
DTSTART;TZID=America/Toronto:20250615T110000
DTEND;TZID=America/Toronto:20250615T123000
DTSTAMP:20260424T231113
CREATED:20250122T163228Z
LAST-MODIFIED:20250504T002259Z
UID:27176-1749985200-1749990600@barrhavenunited.org
SUMMARY:United Church of Canada 100th Anniversary Worship Service
DESCRIPTION:A massive combined Worship service of the United Churches in the Eastern Ontario Outaouais Region\, to celebrate the 100th Anniversary of the United Church of Canada. Held at the EY Centre in Ottawa\, Uplands Drive. Worship at BUC is cancelled to allow congregants to join this celebration. \n
URL:https://barrhavenunited.org/event/united-church-of-canada-100th-anniversary-worship-service/
LOCATION:EY Centre\, 4899 Uplands Drive\, Ottawa\, Ontario\, K1V 2N6\, Canada
END:VEVENT
END:VCALENDAR