BEGIN:VCALENDAR
VERSION:2.0
PRODID:-//Barrhaven United Church - ECPv5.1.1//NONSGML v1.0//EN
CALSCALE:GREGORIAN
METHOD:PUBLISH
X-WR-CALNAME:Barrhaven United Church
X-ORIGINAL-URL:https://barrhavenunited.org
X-WR-CALDESC:Events for Barrhaven United Church
BEGIN:VTIMEZONE
TZID:America/Toronto
BEGIN:DAYLIGHT
TZOFFSETFROM:-0500
TZOFFSETTO:-0400
TZNAME:EDT
DTSTART:20250309T070000
END:DAYLIGHT
BEGIN:STANDARD
TZOFFSETFROM:-0400
TZOFFSETTO:-0500
TZNAME:EST
DTSTART:20251102T060000
END:STANDARD
END:VTIMEZONE
BEGIN:VEVENT
DTSTART;TZID=America/Toronto:20250312T123000
DTEND;TZID=America/Toronto:20250312T143000
DTSTAMP:20260419T133036
CREATED:20250224T161334Z
LAST-MODIFIED:20250224T161334Z
UID:27312-1741782600-1741789800@barrhavenunited.org
SUMMARY:Victoria's Quilts
DESCRIPTION:No experience needed\, help pin and cut batting and backing for quilts we make to donate to those receiving cancer treatments. \n
URL:https://barrhavenunited.org/event/victorias-quilts-4/
CATEGORIES:Life and Work
END:VEVENT
END:VCALENDAR